BEGIN:VCALENDAR
VERSION:2.0
PRODID:-//wp-events-plugin.com//7.2.3.1//EN
BEGIN:VEVENT
UID:75@blasmusikblog.com
DTSTART:20190522T220000Z
DTEND:20190525T220000Z
DTSTAMP:20190418T205441Z
URL:https://blasmusikblog.com/events/clarimondo-die-ganze-welt-der-klarine
 tte-zu-gast-in-der-bdb-musikakademie/
SUMMARY:ClariMondo – die ganze Welt der Klarinette zu Gast in der BDB-Mus
 ikakademie
DESCRIPTION:ClariMondo – vom 23. bis 26. Mai 2019 firmieren die BDB-Klari
 nettentage erstmals unter neuem Namen. Klangvoll macht dieser deutlich\, d
 ass im Mai die ganze Welt der Klarinette in Staufen zusammenkommt\, um das
  Instrument in seiner gesamten Vielfalt zu erleben. Ihrem Konzept bleiben 
 die Klarinettentage indes treu. Auch in der dritten Auflage möchte das Fe
 stival Instrumentalisten jeden Alters und Niveaus in einem facettenreichen
  Programm Fortbildung\, Inspiration und mit „Körper und Klarinette“ e
 inen spannenden Schwerpunkt bieten. \n\nDazu hat der künstlerische Leiter
  von ClariMondo\, Kilian Herold\, wieder ein spannendes Paket aus Workshop
 s\, Meisterkursen\, Kammermusik\, Konzerten und Vorträgen geschnürt. In 
 verschiedenen Workshops wird dabei das Zusammenspiel von Körper und Klari
 netten sowie die Frage im Fokus stehen\, was es braucht\, damit der Körpe
 r glücklich klingt.\n\nMit den drei herausragenden Solisten und Hochschul
 professoren Hari Mäki (Sibelius-Akademie Helsinki)\, Johannes Peitz (Hoch
 schule für Musik und Theater) und Andreas Langenbuch (Robert-Schumann-Hoc
 hschule für Musik in Düsseldorf) konnte das Dozententeam für die Meiste
 rkurse wieder hochkarätig besetzt werden. Eine feste Größe im Dozentent
 eam ist Anton Hollich. Der Klarinettist des SWR Symphonieorchesters wird w
 ieder eine Kurslinie für Bassklarinette anbieten\, die Bassklarinettisten
  jeglichen Niveaus die Möglichkeit gibt\, sich im Einzelunterricht oder i
 m Ensemble gezielt weiterzubilden. Neu im Dozententeam hingegen ist der He
 lder Tavares. Der Portugiese greift für die Klarinettentage eine Traditio
 n seiner Heimat auf und bietet Klarinettisten die Möglichkeit\, ihr Instr
 ument in der großen Formation zu spielen und den kolorierten Klang des Kl
 arinettenorchesters zu erleben.\n\nKonzerte\, die Instrumenten- und Notena
 usstellung klangART sowie ein kostenloses Angebot für Kinder und Jugendli
 che runden Festivalprogramm ab. Das schon Kinder und Jugendliche ab 10 Jah
 ren Festival-Atmosphäre schnuppern dürfen\, ist bei ClariMondo Programm.
  In dem eigens für sie geschaffenen Format clarinet4kids&amp\;teens könn
 en Kinder und Jugendliche von den Profis lernen und die Freude am gemeinsa
 men Musizieren entdecken. 2019 geht es dazu auf den Spuren von Phileas Fog
 g nicht in 80 Tagen\, sondern auf den Schwingen der Musik in nur zwei Tage
 n einmal rund um die Welt.\n\nJunge Talente mit Profis in Berührung zu br
 ingen und ihnen so Wege in die Welt der Musik aufzeigen\, ist ClariMondo g
 enauso ein Anliegen\, wie der Brückenschlag zwischen Amateuren und Profis
 \, zwischen Spitze und Breite. Das facettenreiche und abwechslungsreichen 
 Festivalprogramm\, das für jeden Klarinettisten das Passende bietet\, wir
 d diese Philosophie vom 23. bis 26. Mai 2019 in der BDB-Musikakademie erne
 ut verwirklichen. http://bit.ly/ClariMondo\n\n&nbsp\;\n\n&nbsp\;\n\n&nbsp\
 ;
ATTACH;FMTTYPE=image/jpeg:https://blasmusikblog.com/wp-content/uploads/201
 9/04/Clarimondo-Meisterkursdozenten1.jpg
CATEGORIES:Festival,Konzert,Workshop
LOCATION:BDB Musikakademie\, Alois-Schnorr-Straße 10\, Staufen\, Baden-Wü
 rttemberg\, 79219\, Deutschland
GEO:47.88348999999999;7.737740000000031
X-APPLE-STRUCTURED-LOCATION;VALUE=URI;X-ADDRESS=Alois-Schnorr-Straße 10\, 
 Staufen\, Baden-Württemberg\, 79219\, Deutschland;X-APPLE-RADIUS=100;X-TI
 TLE=BDB Musikakademie:geo:47.88348999999999,7.737740000000031
END:VEVENT
END:VCALENDAR