BEGIN:VCALENDAR
VERSION:2.0
PRODID:-//wp-events-plugin.com//7.2.3.1//EN
BEGIN:VEVENT
UID:129@blasmusikblog.com
DTSTART:20200423T220000Z
DTEND:20200425T220000Z
DTSTAMP:20200421T093408Z
URL:https://blasmusikblog.com/events/drumcamp-bdb-musikakademie-legende-me
 ets-innovative-kuenstlerin/
SUMMARY:drumCamp BDB-Musikakademie: Legende meets innovative Künstlerin
DESCRIPTION:Leider abgesagt\, wegen Corona!\nEr ist eine Schlagzeuglegende 
 und Vater vieler erfolgreicher Pop-Songs\, sie - eine der innovativsten Sc
 hlagzeugkünstlerinnen überhaupt. Die Rede ist von Udo Dahmen\, einem der
  erfolgreichsten Live- und Studio-Drummer der 80er Jahre und heutigem Dire
 ktor der Popakademie Baden-Württemberg\, und seiner ehemaligen Schülerin
  Anika Nilles. Mit technischer Brillanz\, starkem Groove und leidenschaftl
 ichem Spiel erspielte sie sich auf youtube ein Millionen-Publikum und eine
  große Fangemeinde. Als eine der Top-Drummerinnen und innovativsten Vertr
 eterinnen der modernen Schlagzeugkunst ist sie nicht nur auf den Bühnen d
 er Welt\, sondern mittlerweile auch als Dozentin weltweit gefragt und mit 
 ihrer Drum Clinic von Amsterdam über Manchester\, Vancouver und Tokyo run
 d um den Globus unterwegs.\n\n[caption id="attachment_11836" align="alignl
 eft" width="300"] Anika Nilles ©Sven Peks klein[/caption]\n\nStation mach
 t sie alljährlich auch in der BDB-Musikakademie in Staufen. Dort sind im 
 April beide Ausnahme-Schlagzeuger hautnah zu erleben. In Masterclasses\, G
 ruppenunterricht geben Anika Nilles und Udo Dahmen ihr Können an Schlagze
 uger aus Bands\, Orchestern und Musikvereinen weiter und erarbeiten Themen
  wie Grooves&amp\;Styles\, Koordination und Timing\, stilechte Fill-Ins\, 
 Improvisation und Solo-Spiel. Dass die stilistische Bandbreite nicht zu ku
 rz und auch die Grooves aus Jazz\, Latin\, Klassik und Tradition zu ihrem 
 Recht kommen\, dafür sorgen als weitere Dozenten die Schlagzeuger Arno Pf
 under und Robert Brenner.\n\nDas drumCamp findet vom 24. bis 26. April 202
 0 in der BDB-Musikakademie in Staufen statt. Im Rahmen des drumCamps wird 
 es am Samstag\, 25. April 2020\, 20 Uhr\, bei freiem Eintritt ein Werkstat
 tkonzert geben. Hier geht’s zur Anmeldung: http://bit.ly/drumCamp2020
ATTACH;FMTTYPE=image/jpeg:https://blasmusikblog.com/wp-content/uploads/202
 0/03/Udo-Dahmen.jpg
CATEGORIES:Konzert,Workshop
LOCATION:BDB Musikakademie\, Alois-Schnorr-Straße 10\, Staufen\, Baden-Wü
 rttemberg\, 79219\, Deutschland
GEO:47.88348999999999;7.737740000000031
X-APPLE-STRUCTURED-LOCATION;VALUE=URI;X-ADDRESS=Alois-Schnorr-Straße 10\, 
 Staufen\, Baden-Württemberg\, 79219\, Deutschland;X-APPLE-RADIUS=100;X-TI
 TLE=BDB Musikakademie:geo:47.88348999999999,7.737740000000031
END:VEVENT
END:VCALENDAR