BEGIN:VCALENDAR
VERSION:2.0
PRODID:-//wp-events-plugin.com//7.2.3.1//EN
BEGIN:VEVENT
UID:130@blasmusikblog.com
DTSTART:20210417T180000Z
DTEND:20210417T200000Z
DTSTAMP:20200314T085200Z
URL:https://blasmusikblog.com/events/filmvorfuehrung-mit-live-musik-beim-g
 alakonzert-im-rheintal-kongress-zentrum-bingen/
SUMMARY:Filmvorführung  mit Live-Musik  beim Galakonzert im Rheintal-Kon
 gress-Zentrum Bingen
DESCRIPTION:Achtung: Dieses Galakonzert mit Filmmusik-Erlebnis wurde auf de
 n 17. April 2021 verschoben!\n&nbsp\;\nDas Symphonische Blasorchester Drom
 ersheim geht wieder einmal  neue Wege\nMit der Vorführung des prämierte
 n österreichischen Kurzfilms '1805 - A Town's Tale' mit musikalischer Liv
 e-Untermalung durch das Orchester werden neue Maßstäbe für das diesjäh
 rige Galakonzert gesetzt.\n\nDer Film wird den Mittel- und zugleich Höhep
 unkt des anstehenden Gala-Konzertes am 4. April 2020 im Rheintal-Kongress-
 Zentrum Bingen bilden.\n\nDie Musik stammt aus der Feder des österreichis
 chen Komponisten Otto M. Schwarz. Mit professioneller Film-Technik und Gro
 ßbild-Leinwand  entsteht ein Erlebnis\, das man sonst nur von großen Ki
 no-Palästen kennt. Ein absolutes Multi-Media-Event.\n\nAuch die weiteren 
 Werke des Abends versprechen dem Zuhörer die vom Orchester gewohnt  hoch
 wertige und doch kurzweilige musikalische Unterhaltung.\n\nDas Poem `Der T
 raum des Oenghus` von Rolf Rudin bezieht sich auf die gleichnamige Sage un
 d setzt programmatisch die Traumvision des Königsohns Oenghus in Klanglic
 hkeit um. Die Atmosphäre des Traumhaften und auch des Unerreichbaren war 
 Anregung zur Komposition einer zart dunklen Traumwelt.\n\nJohn Powells Mus
 ik zum  US-Animationsfilm How to Train Your Dragon (Drachenzähmen leicht
  gemacht) wird nicht nur die Augen der jüngeren Konzertbesucher zum Leuch
 ten bringen.\n\nDer ´Königsmarsch´\, welcher vom Komponisten Richard St
 rauss „In tiefster Ehrfurcht seiner Majestät Kaiser König Wilhelm II.
 “ gewidmet wurde\, sowie das von Alfred Reed im Stile der  Theater-Over
 ture  komponierte ´Curtain Up!´ runden das diesjährige Galakonzert des
  Symphonischen Blasorchesters Dromersheim ab.\n\nKonzert-Beginn ist 20:00 
 Uhr\, Einlass 19:30 Uhr\n\nKarten gibt es bei Ticket Regional (https://www
 .ticket-regional.de/events_info.php…) oder bei allen bekannten Vorverka
 ufsstellen.\n\nRest-Karten an der Abendkasse ab 19:00 Uhr\n\nWeitere Infor
 mationen gibt es auch auf www.sbodromersheim.de und in der Facebook Vera
 nstaltung (https://www.facebook.com/events/992362214459484/).\n\n© Beitra
 gsbild: Karlheinz Lamby Fotographie
ATTACH;FMTTYPE=image/jpeg:https://blasmusikblog.com/wp-content/uploads/202
 0/03/SBODTotallogo_klein-scaled.jpg
CATEGORIES:Konzert
LOCATION:Rheintal-Kongress-Zentrum Bingen\, Museumstraße\, Bingen\, Rheinl
 and-Pfalz\, 55411\, Deutschland
X-APPLE-STRUCTURED-LOCATION;VALUE=URI;X-ADDRESS=Museumstraße\, Bingen\, Rh
 einland-Pfalz\, 55411\, Deutschland;X-APPLE-RADIUS=100;X-TITLE=Rheintal-Ko
 ngress-Zentrum Bingen:geo:0,0
END:VEVENT
END:VCALENDAR