BEGIN:VCALENDAR
VERSION:2.0
PRODID:-//wp-events-plugin.com//7.2.3.1//EN
BEGIN:VEVENT
UID:341@blasmusikblog.com
DTSTART:20260508T220000Z
DTEND:20260508T220000Z
DTSTAMP:20260310T082723Z
URL:https://blasmusikblog.com/events/fruehjahrskonzert-der-stadtmusik-stoc
 kach-filmmusik-klang-werdende-bilder/
SUMMARY:Frühjahrskonzert der Stadtmusik Stockach: Filmmusik – Klang werd
 ende Bilder
DESCRIPTION:Filmmusik ist weit mehr als Begleitung zum bewegten Bild: Sie e
 rzählt\, vertieft\, kommentiert – und prägt oft stärker als das Bild 
 selbst unsere Erinnerung an große Kinomomente. Ob episch\, lyrisch oder d
 ramatisch – sie macht Emotionen hörbar und verleiht Geschichten ihre kl
 angliche Seele. Am Samstag\, 9. Mai 2026\, lädt die Stadtmusik Stockach u
 m 20 Uhr zu ihrem Frühjahrskonzert in die Jahnhalle Stockach ein.\n\nUnte
 r dem Motto „Filmmusik“ präsentiert das sinfonische Blasorchester unt
 er der Leitung von MD Helmut Hubov ein vielseitiges Programm mit bekannten
  Klassikern und weniger bekannten\, aber ebenso eindrucksvollen Werken aus
  Film\, Fernsehen und Computerspiel – begleitet von eindrucksvollen Bild
 projektionen.\n\nDen Auftakt bildet „Sogno di Volare“ aus dem Computer
 spiel Civilization VI von Christopher Tin – eine musikalische Hymne an d
 en Traum des Fliegens und den menschlichen Entdeckergeist. Mit Auszügen a
 us „Prinzessin Mononoke“ von Joe Hisaishi taucht das Publikum in die j
 apanische Filmwelt von Hayao Miyazaki ein: Der Film erzählt von der Zerbr
 echlichkeit der Natur und dem Spannungsfeld zwischen Fortschritt und Tradi
 tion – ein poetisches Plädoyer für das Gleichgewicht zwischen Mensch u
 nd Umwelt. Ein Klassiker der Filmmusik folgt mit den „Jurassic Park Soun
 dtrack Highlights“ von John Williams. Die Musik begleitet die Wiedererwe
 ckung ausgestorbener Dinosaurier auf einer abgelegenen Insel und spiegelt 
 die Spannung zwischen wissenschaftlicher Faszination und menschlicher Hybr
 is. Williams’ Themen vereinen Staunen\, Ehrfurcht und unterschwellige Ge
 fahr und lassen die urzeitliche Welt klanglich lebendig werden. Mit „The
  Legend of Zelda“ von Kõji Kondõ wird die Welt der Videospielmusik leb
 endig – eine Geschichte von Mut\, Abenteuer und dem ewigen Kampf zwische
 n Gut und Böse.\n\nNach der Pause erklingen ikonische Melodien aus der We
 lt von James Bond (John Barry)\, die seit Jahrzehnten für Spannung und da
 s Spiel zwischen Gefahr\, Glamour und Abenteuer stehen. Mit „Transformer
 s“ von Steve Jablonsky folgt ein kraftvoller Soundtrack über den Konfli
 kt zwischen Mensch und Maschine und den Kampf um das Schicksal der Erde. D
 as „Lion King Medley“ (Elton John\, Tim Rice\, Hans Zimmer) entführt 
 das Publikum in die Weiten der afrikanischen Savanne. Die Musik erzählt d
 ie Geschichte des jungen Löwen Simba\, der seinen Platz im „Kreislauf d
 es Lebens“ finden muss – geprägt von Verlust\, Freundschaft und Veran
 twortung. Rhythmische Motive\, warme Klangfarben und eingängige Melodien 
 verbinden sich zu einer musikalischen Reise durch Natur\, Tierwelt und die
  großen Themen des Erwachsenwerdens. Mit „Hummel gets the Rockets“ au
 s The Rock sowie der „Gladiator Suite“ von Hans Zimmer erreicht das Pr
 ogramm seinen dramatischen Höhepunkt. Die Musik zu Gladiator zeichnet den
  Weg des römischen Generals Maximus nach – von Verrat und Verlust hin z
 u Ehre\, Mut und dem Streben nach Gerechtigkeit. Epische Klangflächen\, e
 indringliche Rhythmen und lyrische Momente verleihen der Geschichte emotio
 nale Tiefe und große cineastische Wucht.\n\nDas Frühjahrskonzert bildet 
 den Auftakt zu einem Jahr voller musikalischer Höhepunkte. Karten sind im
  Kulturamt Stockach sowie online unter www.tickets-stockach.de erhältlich
 . Lassen Sie sich von der Magie der Filmmusik anstecken und erleben Sie ei
 nen unvergesslichen Abend mit Musik und Bildern aus Film\, Fernesehen und 
 Computerspiel. Die Stadtmusik Stockach freut sich auf Sie!\n\n&nbsp\;
ATTACH;FMTTYPE=image/jpeg:https://blasmusikblog.com/wp-content/uploads/202
 6/03/Kompositionswettbewerb-fuer-Komponistinnen1.png
CATEGORIES:Konzert
LOCATION:Jahnhalle Stockach\, Jahnweg 1\, Stockach\, Baden-Württemberg\, 7
 8333\, Deutschland
X-APPLE-STRUCTURED-LOCATION;VALUE=URI;X-ADDRESS=Jahnweg 1\, Stockach\, Bade
 n-Württemberg\, 78333\, Deutschland;X-APPLE-RADIUS=100;X-TITLE=Jahnhalle 
 Stockach:geo:0,0
END:VEVENT
END:VCALENDAR