BEGIN:VCALENDAR
VERSION:2.0
PRODID:-//wp-events-plugin.com//7.2.3.1//EN
BEGIN:VEVENT
UID:76@blasmusikblog.com
DTSTART:20190525T180000Z
DTEND:20190525T180000Z
DTSTAMP:20190425T041443Z
URL:https://blasmusikblog.com/events/hoer-mich-ich-bin-der-fruehling-frueh
 jahrskonzert-des-freiburger-blasorchesters/
SUMMARY:Hör mich\, ich bin der Frühling!  Frühjahrskonzert  des Freibu
 rger Blasorchesters
DESCRIPTION:Es ist die Premiere des Freiburger Blasorchesters (FBO) mit sei
 nem neuen Dirigenten Miguel Etchegoncelay: Am Samstag\, 25. Mai 2019 ab 20
  Uhr im Bürgerhaus Seepark wird der Frühling musikalisch gefeiert! 
ATTACH;FMTTYPE=image/jpeg:https://blasmusikblog.com/wp-content/uploads/201
 9/04/FBO_2019_seepark_facebook_1200x630.jpg
CATEGORIES:Konzert
LOCATION:Bürgerhaus im Seepark\, Gerhard-Hauptmann-Straße 1\, Freiburg\, 
 Baden-Württemberg\, 79110\, Deutschland
X-APPLE-STRUCTURED-LOCATION;VALUE=URI;X-ADDRESS=Gerhard-Hauptmann-Straße 1
 \, Freiburg\, Baden-Württemberg\, 79110\, Deutschland;X-APPLE-RADIUS=100;
 X-TITLE=Bürgerhaus im Seepark:geo:0,0
END:VEVENT
END:VCALENDAR