BEGIN:VCALENDAR
VERSION:2.0
PRODID:-//wp-events-plugin.com//7.2.3.1//EN
BEGIN:VEVENT
UID:132@blasmusikblog.com
DTSTART:20200503T090000Z
DTEND:20200503T110000Z
DTSTAMP:20200428T102327Z
URL:https://blasmusikblog.com/events/meet-the-composer-online-meeting-mit-
 mario-buerki/
SUMMARY:Meet the Composer - Online-Meeting mit Mario Bürki
DESCRIPTION:Meet the Composer geht am Sonntag\, den 3. Mai 2020 um 11 Uhr i
 n die zweite Runde: Mario Bürki steht in einem Zoom-Online-Meeting für e
 inen begrenzten Kreis von Dirigentinnen und Dirigenten zum fachlichen Aust
 ausch über seine Kompositionen und seine Art zu komponieren zur Verfügun
 g. Außerdem wird er über seine neuesten Kompositionen berichten.\n\nDies
 es Zoom-Online-Meeting soll Dirigentinnen und Dirigenten die Gelegenheit g
 eben\, sich mit Mario Bürki auszutauschen\, ihm Fragen zu einem bestimmte
 n Werk zu stellen und aus erster Hand zu erfahren\, an welchen Werken er g
 erade arbeitet. Um einen echten Austausch online zu gewährleisten\, ist d
 ie Anzahl der OrchesterleiterInnen\, die daran teilnehmen können\, begren
 zt. Eine Anmeldung bis spätestens Samstag\, 2. Mai 2020\, 11 Uhr (formlos
 ) an info@kulturservice.link ist nötig. Das Online-Meeting ist kostenfrei
 !\n\nAlexandra Link\, Inhaberin des Kulturservices Link und Autorin des Bl
 asmusikblog.com wird die Moderation übernehmen\, so dass auch wirklich je
 de Dirigentin / jeder Dirigent zu Wort kommt und die gegenseitige Kommunik
 ation gelingt.\n\nDas Zoom-Online-Meeting ist auf ca. 1\,5 - 2 Stunden gep
 lant.\n\nMit der Bestätigungsmail zu Deiner Anmeldung erhältst Du den Zu
 gangs-Link zum Zoom-Online-Meeting. Außerdem bekommst Du die Gelegenheit\
 , schon vorab Deine wichtigsten Fragen per Mail zu stellen\, auf die Mario
  Bürki im Meeting dann eingeht. Wichtig ist\, dass er schon vorab weiß\,
  zu welchen Werken Du Fragen hast\, damit er die Partitur gleich greifbar 
 hat.\n\nTrage Dir eine Erinnerung in deinen bevorzugten Kalender ein\, dam
 it Du auch pünktlich zum Beginn des Meetings anwesend bist. Bitte wähle 
 Dich schon ein paar Minuten vor 11 Uhr in den Meeting-Raum ein. Zunächst 
 landest Du in einer Art „Wartezimmer“\, von dem Du dann um Punkt 11 Uh
 r in den Meeting-Raum eingelassen wirst.\n\nAm Sonntag\, den 3. Mai beginn
 t also um 11 Uhr das Online-Meeting mit Mario Bürki auf der Plattform Zoo
 m. Nach der Begrüßung durch die Moderatorin bekommt jede Dirigentin / je
 der Dirigent die Gelegenheit\, sich selbst vorzustellen.\n\nBei Online-Mee
 tings ist es wichtig\, dass nicht alle durcheinanderreden – dann hört k
 einer mehr etwas vom anderen. Deshalb müssen beim Online-Meeting ein paar
  kleine Regeln eingehalten werden:\n\n 	Wer gerade nicht redet\, stellt se
 in Mikrophon auf „stumm“ (übernimmt die Moderatorin)\n 	Wer etwas sag
 en möchte hebt (virtuell) die Hand\n 	Die Moderatorin schaltet den jeweil
 igen Redner frei\n 	Fragen können auch jederzeit schriftlich im Chat gest
 ellt werden. Die Moderatorin sorgt dafür\, dass alle Fragen beantwortet w
 erden.\n\nSich im realen Leben zu treffen und sich von Angesicht zu Angesi
 cht austauschen zu können\, ist zwar sicherlich schöner\, aber Tools wie
  u. a. Zoom bieten ohne großen Reise- und Zeit-Aufwand eine gute Alternat
 ive.\n\nWenn Du noch nie an einem Zoom-Meeting teilgenommen hast\, empfehl
 e ich Dir folgendes Youtube-Tutorial (ca. 10 Minuten):\n\nhttps://www.yout
 ube.com/watch?v=WYElSa4oO3M\n\nEin wichtiger Hinweis noch: Das Online-Meet
 ing mit Mario Bürki wird nicht live übertragen. Es wird auch nicht für 
 eine nachträgliche Veröffentlichung aufgenommen. Es bleibt also exklusiv
  dem teilnehmenden Kreis vorbehalten!\n\nUnd nochmals der Hinweis: Es wird
  nur eine begrenzte Anzahl an Dirigentinnen und Dirigenten zugelassen! Sch
 nell sein bei der Anmeldung lohnt sich also! Eine formlose Anmeldung mit 
 „Ich bin beim Online-Meeting mit Mario Bürki“\, Vorname\, Name\, Vere
 in(e)\, Ort und Land an info@kulturservice.link bis spätestens Samstag\, 
 3. Mai 2020\, 11 Uhr\, reicht!\n\nWir freuen uns auf einen regen Austausch
 !\n\nViele Grüße bis dahin\n\nMario Bürki               
                           Alexandra Link\n\nKompo
 nist                                   
            Kulturservice Link
ATTACH;FMTTYPE=image/jpeg:https://blasmusikblog.com/wp-content/uploads/202
 0/04/Online-Meeting-mit-Mario-Bürki-Facebook.png
CATEGORIES:Sonstiges,Workshop
END:VEVENT
END:VCALENDAR