BEGIN:VCALENDAR
VERSION:2.0
PRODID:-//wp-events-plugin.com//7.2.3.1//EN
BEGIN:VEVENT
UID:131@blasmusikblog.com
DTSTART:20200426T090000Z
DTEND:20200426T110000Z
DTSTAMP:20200421T093152Z
URL:https://blasmusikblog.com/events/meet-the-composer-online-meeting-mit-
 otto-m-schwarz/
SUMMARY:Meet the Composer - Online-Meeting mit Otto M. Schwarz
DESCRIPTION:Premiere am Sonntag\, den 26. April 2020 um 11 Uhr: Otto M. Sch
 warz steht in einem Zoom-Online-Meeting für einen begrenzten Kreis von Di
 rigentinnen und Dirigenten zum fachlichen Austausch über seine Kompositio
 nen und seine Art zu komponieren zur Verfügung. Außerdem wird er über s
 eine neuesten Kompositionen berichten.\n\nDieses Zoom-Online-Meeting soll 
 Dirigentinnen und Dirigenten die Gelegenheit geben\, sich mit Otto M. Schw
 arz auszutauschen\, ihm Fragen zu einem bestimmten Werk zu stellen und aus
  erster Hand zu erfahren\, an welchen Werken er gerade arbeitet. Um einen 
 echten Austausch online zu gewährleisten\, ist die Anzahl der Orchesterle
 iterInnen\, die daran teilnehmen können\, begrenzt. Eine Anmeldung bis sp
 ätestens Samstag\, 25. April 2020\, 11 Uhr (formlos) an info@kulturservic
 e.link ist nötig. Das Online-Meeting ist kostenfrei!\n\nAlexandra Link\, 
 Inhaberin des Kulturservices Link und Autorin des Blasmusikblog.com wird d
 ie Moderation übernehmen\, so dass auch wirklich jede Dirigentin / jeder 
 Dirigent zu Wort kommt und die gegenseitige Kommunikation gelingt.\n\nDas 
 Zoom-Online-Meeting ist auf ca. 1\,5 - 2 Stunden geplant.\n\nMit der Best
 ätigungsmail zu Deiner Anmeldung erhältst Du den Zugangs-Link zum Zoom-O
 nline-Meeting. Außerdem bekommst Du die Gelegenheit\, schon vorab Deine w
 ichtigsten Fragen per Mail zu stellen\, auf die Otto M. Schwarz im Meeting
  dann eingeht. Wichtig ist\, dass er schon vorab weiß\, zu welchen Werken
  Du Fragen hast\, damit er die Partitur gleich greifbar hat.\n\nTrage Dir 
 eine Erinnerung in deinen bevorzugten Kalender ein\, damit Du auch pünktl
 ich zum Beginn des Meetings anwesend bist. Bitte wähle Dich schon ein paa
 r Minuten vor 11 Uhr in den Meeting-Raum ein. Zunächst landest Du in eine
 r Art „Wartezimmer“\, von dem Du dann um Punkt 11 Uhr in den Meeting-R
 aum eingelassen wirst.\n\nAm Sonntag\, den 26. April beginnt also um 11 Uh
 r das Online-Meeting mit Otto M. Schwarz auf der Plattform Zoom. Nach der 
 Begrüßung durch die Moderatorin bekommt jede Dirigentin / jeder Dirigent
  die Gelegenheit\, sich selbst vorzustellen.\n\nBei Online-Meetings ist es
  wichtig\, dass nicht alle durcheinanderreden – dann hört keiner mehr e
 twas vom anderen. Deshalb müssen beim Online-Meeting ein paar kleine Rege
 ln eingehalten werden:\n\n 	Wer gerade nicht redet\, stellt sein Mikrophon
  auf „stumm“ (übernimmt die Moderatorin)\n 	Wer etwas sagen möchte h
 ebt (virtuell) die Hand\n 	Die Moderatorin schaltet den jeweiligen Redner 
 frei\n 	Fragen können auch jederzeit schriftlich im Chat gestellt werden.
  Die Moderatorin sorgt dafür\, dass alle Fragen beantwortet werden.\n\nSi
 ch im realen Leben zu treffen und sich von Angesicht zu Angesicht austausc
 hen zu können\, ist zwar sicherlich schöner\, aber Tools wie u. a. Zoom 
 bieten ohne großen Reise- und Zeit-Aufwand eine gute Alternative.\n\nWenn
  Du noch nie an einem Zoom-Meeting teilgenommen hast\, empfehle ich Dir fo
 lgendes Youtube-Tutorial (ca. 10 Minuten):\n\nhttps://www.youtube.com/watc
 h?v=WYElSa4oO3M\n\nEin wichtiger Hinweis noch: Das Online-Meeting mit Otto
  M. Schwarz wird nicht live übertragen. Es wird auch nicht für eine nach
 trägliche Veröffentlichung aufgenommen. Es bleibt also exklusiv dem teil
 nehmenden Kreis vorbehalten!\n\nUnd nochmals der Hinweis: Es wird nur eine
  begrenzte Anzahl an Dirigentinnen und Dirigenten zugelassen! Schnell sein
  bei der Anmeldung lohnt sich also! Eine formlose Anmeldung mit „Ich bin
  bei Online-Meeting mit Otto M. Schwarz dabei!“\, Vorname\, Name\, Verei
 n(e)\, Ort und Land an info@kulturservice.link bis spätestens Samstag\, 2
 5. April 2020\, 11 Uhr\, reicht!\n\nWir freuen uns auf einen regen Austaus
 ch!\n\nViele Grüße bis dahin\n\nOtto M. Schwarz             
                              Alexandra Link\n\
 nKomponist                                
                      Kulturservice Link
ATTACH;FMTTYPE=image/jpeg:https://blasmusikblog.com/wp-content/uploads/202
 0/04/Meet-the-composer-Otto-Facebook1.png
CATEGORIES:Sonstiges,Workshop
END:VEVENT
END:VCALENDAR