BEGIN:VCALENDAR
VERSION:2.0
PRODID:-//wp-events-plugin.com//7.2.3.1//EN
BEGIN:VEVENT
UID:78@blasmusikblog.com
DTSTART;VALUE=DATE:20190813
DTEND;VALUE=DATE:20190818
DTSTAMP:20190517T060924Z
URL:https://blasmusikblog.com/events/meisterkurs-dirigieren-blasmusik-in-l
 enk-im-simmental/
SUMMARY:Meisterkurs Dirigieren Blasmusik in Lenk im Simmental
DESCRIPTION:Die Stiftung Kulturförderung Lenk bietet gemeinsam mit der Hoc
 hschule der Künste Bern (HKB) von Dienstag - Samstag\, 13.-17. August 201
 9\, in Lenk im Simmental\, einen Meisterkurs Dirigieren Blasmusik an. Der 
 Kurs findet unter der Anleitung des international gefragten Dirigenten Iva
 n Meylemans und der HKB Dozenten Rolf Schumacher und Corsin Tuor statt.\n\
 nDer Kursinhalt beinhaltet Proben mit Korrepetitor\, Solistinnen/Solisten\
 , Kammermusikensemble\, Brass Band und Blasorchester. Dabei stehen vor all
 em Partituranalysen\, Probenmethodik und Dirigiertechnik im Zentrum der Ar
 beit. Der bekannte Schweizer Komponist Oliver Waespi wird in einem Worksho
 p zudem Einblicke in sein kompositorisches Schaffen geben.\n\nIm Meisterku
 rs Dirigieren erhalten die Kursteilnehmenden die Möglichkeit\, zwei anspr
 uchsvolle und abwechslungsreiche Konzertprogramme zu erarbeiten. Am Freita
 g\, 16.8.2019\, 18.00 Uhr\, findet in der Mauritius-Kapelle Lenk ein Kamme
 rmusikkonzert mit einem Ad hoc Kammermusik-Ensemble statt\, das sich aus S
 tudierenden der Hochschule der Künste Bern zusammensetzt. Höhepunkt ist 
 das Abschlusskonzert am Samstag\, 17.8.2019\, in der Mehrzweckhalle Lenk. 
 Unter der Leitung der Kursteilnehmenden werden das Blasorchester der Jugen
 dmusik Kreuzlingen und die Brass Band Berner Oberland konzertieren.\n\nFol
 gende Werke werden erarbeitet:\n\nSolobegleitung\n\nCamille Saint-Saëns 
 – Introduction and Rondo capriccioso\, Op.28\n\nKammermusik\n\nSérgio A
 zevedo - A Britten Celebration\n\nRichard Strauss – Suite B-Dur\, Op.4 f
 ür 13 Blasinstrumente\n\nBrass Band\n\nPhilip Sparke – The Year of the 
 Dragon\n\nOliver Waespi – La passiun\n\nu.a.\n\nBlasorchester\n\nThomas 
 Doss – Black Out\n\nJesus Nelson – Porto de Saudades\, Portuguese Rhap
 sody No.1\n\nDie Kursgebühr beträgt CHF 350.-. Für die Teilnehmenden we
 rden für CHF 250.- Unterkünfte in Chalets an der Lenk bereitgestellt. An
 meldeschluss ist am 1. Juni 2019.\n\nDie aktive Teilnahme ist auf maximal 
 10 Teilnehmende beschränkt. Detaillierte Informationen und Anmeldung: rit
 a.weber@hkb.bfh.ch\n\nhkb-musik.ch\n\nIvan Meylemans\n\nDer belgische Diri
 gent Ivan Meylemans (*1971) ist einer der interessantesten und dynamischst
 en Dirigenten\, die in den letzten Jahren in Europa Bekanntheit erlangten.
 \n\nMeylemans ist derzeit Chefdirigent des Sinfonieorchester Zeeland (Midd
 elburg\, NL)\, derzeitig Europa Meisters: Sinfonisches Blasorchester St-Mi
 chael (Thorn\, NL) sowie derzeitig Weltmeister Fanfare Orchester: Kempenbl
 oei (Achel\, Belgien).\n\nEr ist Professor für Orchester- und Blasmusikdi
 rektion an einer der angesehensten Musikhochschulen Belgiens\, der LUCA Sc
 hool of Arts in Leuven. Er dirigiert ausserdem das schuleigene Sinfonieorc
 hester.\n\nAls Gastdirigent hat Meylemans bereits viele namhafte Orchester
  in Europa geleitet\, u.a. das Royal Concertgebouw Orchestra\, das Rotterd
 am Philharmonic Orchestra\, das Radio-Sinfonieorchester der Niederlande\, 
 das Belgische Nationalorchester\, die Dortmunder Philharmoniker und die No
 rdwestdeutsche Philharmonie. In Asien dirigierte er das Taipei Symphony Or
 chestra und das Seoul Philharmonic Orchestra.\n\nZahlreiche CD-Produktione
 n sowie Radio- und Fernsehaufnahmen unterstreichen Ivan Meylemans’ küns
 tlerische Vielseitigkeit.\n\nSchnupperkurs Dirigieren für Jugendliche bis
  18 Jahre \n\nFür Jugendliche\, die wissen möchten wie es sich anfühlt\
 , einmal vor einem Ensemble zu stehen und was sich hinter den seltsamen Ar
 mbewegungen und Grimassen eines Dirigenten oder einer Dirigentin verbirgt\
 , bieten die Dozenten am Samstag\, 17. August 2019\, 10-17 Uhr ein Schnupp
 erkurs Dirigieren an. Der Kurstag ist kostenlos.\n\nAnmeldungen bis 1. Jul
 i 2019 per Mail an rita.weber@hkb.bfh.ch mit folgenden Angaben: Name\, Vor
 name\, Geburtsdatum\, Adresse\, E-Mail\, Telefonnummer\, Musikschule oder 
 Verein.\n\n&nbsp\;
ATTACH;FMTTYPE=image/jpeg:https://blasmusikblog.com/wp-content/uploads/201
 9/05/Meisterkurs-Lenk2.png
CATEGORIES:Konzert,Workshop
LOCATION:Mehrzweckhalle Lenk im Simmental\, Schulhofstraße\, Lenk im Simme
 ntal\, 3775\, Schweiz
GEO:46.4571943;7.44291039999996
X-APPLE-STRUCTURED-LOCATION;VALUE=URI;X-ADDRESS=Schulhofstraße\, Lenk im S
 immental\, 3775\, Schweiz;X-APPLE-RADIUS=100;X-TITLE=Mehrzweckhalle Lenk i
 m Simmental:geo:46.4571943,7.44291039999996
END:VEVENT
END:VCALENDAR