BEGIN:VCALENDAR
VERSION:2.0
PRODID:-//wp-events-plugin.com//7.2.3.1//EN
BEGIN:VEVENT
UID:340@blasmusikblog.com
DTSTART:20260831T220000Z
DTEND:20260831T220000Z
DTSTAMP:20260310T080027Z
URL:https://blasmusikblog.com/events/neue-klaenge-von-komponistinnen-gesuc
 ht-der-ooe-blasmusikverband-laedt-zum-kompositionswettbewerb-ein/
SUMMARY:Neue Klänge von Komponistinnen gesucht – der OÖ. Blasmusikverba
 nd lädt zum Kompositionswettbewerb ein
DESCRIPTION:Der Oberösterreichischer Blasmusikverband schreibt für das Ja
 hr 2026 einen internationalen Wettbewerb für Komponistinnen aus. Frauen a
 us aller Welt sind herzlich eingeladen\, neue Werke für Blasorchester ein
 zureichen und damit die Vielfalt der internationalen Blasmusikszene mitzug
 estalten.\n\nZiel des Wettbewerbs ist es\, Frauen als Musikschaffende vor 
 den Vorhang zu holen und kreative Impulse für die Blasmusik zu setzen. Te
 ilnahmeberechtigt sind ausschließlich weibliche Komponistinnen\, unabhän
 gig von Alter oder Staatsbürgerschaft. Pro Teilnehmerin können bis zu zw
 ei Originalwerke für Blasorchester eingereicht werden.\n\nDie besten Komp
 ositionen werden mit Geldpreisen (1. Preis: € 2.000\,00\, 2. Preis: € 
 1.500\,00 und 3. Preis: € 1.000\,00) ausgezeichnet.\n\nDarüber hinaus w
 erden die prämierten Werke als Schwerpunktstücke für die Konzertwertung
 ssaison 2027 in Oberösterreich nominiert und damit von zahlreichen Blasor
 chestern aufgeführt.\n\nEinsendeschluss ist der 1. September 2026\, die B
 ekanntgabe der Preisträgerinnen erfolgt im November 2026.\n\nAlle Details
  zu Anforderungen an die Kompositionen sowie den Einreichmodalitäten sind
  auf der Website des OÖ. Blasmusikverbandes unter http://www.ooe-bv.at zu
  finden.\n\nDer OÖ. Blasmusikverband freut sich auf zahlreiche Einsendung
 en und spannende neue Werke von Komponistinnen aus aller Welt.\n\n&nbsp\;
ATTACH;FMTTYPE=image/jpeg:https://blasmusikblog.com/wp-content/uploads/202
 6/03/Kompositionswettbewerb-fuer-Komponistinnen.png
CATEGORIES:Wettbewerb
END:VEVENT
END:VCALENDAR