BEGIN:VCALENDAR
VERSION:2.0
PRODID:-//wp-events-plugin.com//7.2.3.1//EN
BEGIN:VEVENT
UID:182@blasmusikblog.com
DTSTART:20210114T190000Z
DTEND:20210114T213000Z
DTSTAMP:20201221T075129Z
URL:https://blasmusikblog.com/events/online-seminar-mitglieder-finden-bind
 en-teilbereich-aktive-musikerinnen/
SUMMARY:Online-Seminar: Mitglieder finden & binden - Teilbereich aktive Mus
 ikerInnen
DESCRIPTION:Neben der qualitativen Verbesserung unserer Blasorchester\, Spi
 elmanns- und Fanfarenzügen ist es uns auch immer ein Anliegen\, in der Qu
 antität zu wachsen. Dazu gehören nicht nur die konzeptionelle Jugendarbe
 it\, sondern auch Konzepte der Erwachsenen-Ausbildung und Ideen\, wie wir 
 ausgebildete Musikerinnen und Musiker für unseren Musikverein gewinnen k
 önnen. Warum dazu eine gesunde Selbstreflexion und innovative Konzepte n
 ötig sind klärt dieses Online-Seminar. Außerdem besprechen wir Ideen de
 r Mitglieder-Werbung.\nDieses Online-Seminar ist kein automatisiertes „W
 ebinar“! Bei diesem Online-Seminar gibt genug Möglichkeiten\, miteinand
 er in den Austausch zu kommen und die wichtigsten Fragen zu besprechen. In
 teraktive Elemente sollen zur Kommunikation in der Online-Situation beitra
 gen.\nDas Online-Seminar läuft über die Plattform Zoom. Zusammen mit der
  Anmeldebestätigung erhalten Sie den Zugangs-Link. Die Teilnehmergebühr 
 beträgt 24\,00 Euro pro Person.\nÜber diesen Button kannst Du Dich zum O
 nline-Seminar anmelden:\n[mks_button size="large" title="Zur Anmeldung" st
 yle="squared" url="https://www.eventbrite.de/e/mitglieder-finden-binden-te
 ilbereich-aktive-musikerinnen-tickets-133072654893" target="_blank" bg_col
 or="#dd9933" txt_color="#000000" icon="fa-music" icon_type="fa" nofollow="
 0"]\nDie Dozentin Alexandra Link hat es sich mit ihrem Kulturservice Link 
 zur Aufgabe gemacht ehrenamtlich Tätige in kulturellen Vereinen wie zum B
 eispiel Blasorchestern aller Art in den Bereichen Marketing und Management
  zu unterstützen\, zu beraten und zu motivieren. Sie bietet Vorträge und
  Workshops zu den Themen "Zukunft der Musikvereine"\, "Marketing für Musi
 kvereine"\, "Teambasiertes Vereinsmanagement" und "Mitglieder finden und b
 inden" an. Außerdem möchte der Kulturservice Link zur Steigerung der Att
 raktivität und des Images von Blasorchestern und Ensembles im Amateurbere
 ich beitragen\, das Miteinander der verschiedenen Disziplinen fördern und
  für die Musikschaffenden neue Zuhörer-Zielgruppen erschließen. Der Kul
 turservice Link möchte Komponisten\, die für die Amateurmusikszene kompo
 nieren\, in ihrem Schaffen unterstützen und zur Verbreitung ihrer Werke b
 eitragen.\nSeit März 2015 schreibt Alexandra Link in ihrem Blasmusikblog.
 com über ihre eigenen Erfahrungen und Erlebnisse mit der Blasmusik. Sie s
 tellt Blasorchesterwerke vor\, die ihr gefallen und für sie wichtig sind 
 und berichtet über Konzerte bzw. Musikevents\, die sie besucht. Sie greif
 t Themen auf\, die für Blasorchester bzw. Musikvereine interessant sind\,
  wie zum Beispiel Jugendarbeit\, Wertungsspiele / Wettbewerbe\, Ehrenamt u
 sw. Besonders beschäftigt sie sich auf dem Blasmusikblog.com mit den Hera
 usforderungen\, vor die Musikvereine heutzutage gestellt sind. Außerdem g
 ehören die Themen Vereinsmanagement und Vereinsmarketing zu den Schwerpun
 kten. In regelmäßigen Abständen veröffentlicht sie Interviews mit Blas
 orchester-Komponisten und anderen Persönlichkeiten aus der Blasmusikszene
 .\nWie läuft das Online-Seminar genau ab?\nDas Online-Seminar läuft übe
 r die Plattform Zoom. Es ist nicht unbedingt nötig\, dafür ein Programm 
 runterzuladen bzw. Zoom zu installieren. Du kannst über Deinen bevorzugte
 n Internetbrowser teilnehmen (Infos dazu weiter unten).\nÜber diese Seite
  buchst Du den Zugang zum Online-Seminar. Klicke dazu auf "Weiter zur Kass
 e".\nBezahlen kannst Du per PayPal\, Kreditkarte (Visa oder Mastercard)\, 
 Sofortüberweisung oder Vorauskasse.\nDie Einladung bzw. Bestätigung zum 
 Zoom-Online-Meeting\, zusammen mit dem Zugangslink\, erhältst Du nach erf
 olgter Zahlung per Mail.\nNach erfolgter Zahlung wird Dir eine Auftragsbes
 tätigung mit dem Zugangs-Link zugeschickt.\nNotiere Dir Datum und Uhrzeit
  in Deinem bevorzugten Kalender.\nDas Online-Seminar wird nicht live verö
 ffentlicht und wird auch danach nicht als Video veröffentlicht. Es findet
  also im geschützten Raum und in einem exklusiven Rahmen statt.\nEin paar
  Minuten vor Beginn des Online-Seminars solltest Du Dich über den Link in
  den Zoom-Meeting-Raum einloggen. Teste bitte Deine Kamera und Dein Mikrop
 hon.\nPünktlich wirst Du von der Moderatorin in den Zoom-Meeting-Raum ein
 gelassen. Das Online-Seminar kann beginnen.\nSolltest Du noch nie an einem
  Zoom-Meeting teilgenommen haben\, empfehlen wir dieses Tutorial (ca. 10 M
 inuten): https://www.youtube.com/watch?v=WYElSa4oO3M&amp\;t=84s\nWeitere F
 ragen gerne per Mail an: info@kulturservice.link \n[mks_button size="large
 " title="Zur Anmeldung" style="squared" url="https://www.eventbrite.de/e/m
 itglieder-finden-binden-teilbereich-aktive-musikerinnen-tickets-1330726548
 93" target="_blank" bg_color="#dd9933" txt_color="#000000" icon="fa-music"
  icon_type="fa" nofollow="0"]\n\n\n\n\nÜberblick über alle geplanten Onl
 ine-Seminare im Januar 2021:\n\n \nDonnerstag\, 7. Januar 2021 - 19.00 Uhr
 \nWie eine permanente positive Außendarstellung im Musikverein gelingt\n 
 \nMontag\, 11. Januar 2021 - 19.00 Uhr\nWie wir Social Media im Musikverei
 n optimal nutzen können\n \nDonnerstag\, 14. Januar 2021 - 19.00 Uhr\nMit
 glieder finden &amp\; binden - Teilbereich aktive MusikerInnen\n \nDiensta
 g\, 19. Januar 2021 - 19.00 Uhr\nWas tun\, wenn unser Musikverein auf weni
 ge MusikerInnen geschrumpft ist?\n \nFreitag\, 22. Januar 2021 - 19.00 Uhr
 \nAttraktive Konzerte &amp\; Events: Idee - Konzept - Werbung\n \nMontag\,
  25. Januar 2021 - 19.00 Uhr\nWege zu einem teambasierten Vereinsmanangeme
 nt\n \nDonnerstag\, 28. Januar 2021 - 19.00 Uhr\nDie 10+1 größten Heraus
 forderungen für Musikvereine und wir wir ihnen begegnen\n \nMontag\, 1. F
 ebruar 2021 - 19.00 Uhr\nÜber die Balance im Musikverein und wie wir sie 
 gegebenenfalls wieder herstellen
ATTACH;FMTTYPE=image/jpeg:https://blasmusikblog.com/wp-content/uploads/202
 0/12/Mitglieder-Aktive-14.-Januar.png
CATEGORIES:Workshop
END:VEVENT
END:VCALENDAR