BEGIN:VCALENDAR
VERSION:2.0
PRODID:-//wp-events-plugin.com//7.2.3.1//EN
BEGIN:VEVENT
UID:77@blasmusikblog.com
DTSTART:20190529T220000Z
DTEND:20190601T220000Z
DTSTAMP:20190503T105604Z
URL:https://blasmusikblog.com/events/querwind-floetentage-in-der-bdb-musik
 akademie-ein-jubilaeum-mit-grosser-vielfalt/
SUMMARY:querwind-Flötentage in der BDB-Musikakademie: Ein Jubiläum mit gr
 oßer Vielfalt
DESCRIPTION:Flötenfestival Querwind vom 30. Mai bis 2. Juni 2019 in der BD
 B-Musikakademie in Staufen.
ATTACH;FMTTYPE=image/jpeg:https://blasmusikblog.com/wp-content/uploads/201
 9/05/querwind-Meisterkursdozenten.jpg
CATEGORIES:Konzert,Workshop
LOCATION:BDB Musikakademie\, Alois-Schnorr-Straße 10\, Staufen\, Baden-Wü
 rttemberg\, 79219\, Deutschland
GEO:47.88348999999999;7.737740000000031
X-APPLE-STRUCTURED-LOCATION;VALUE=URI;X-ADDRESS=Alois-Schnorr-Straße 10\, 
 Staufen\, Baden-Württemberg\, 79219\, Deutschland;X-APPLE-RADIUS=100;X-TI
 TLE=BDB Musikakademie:geo:47.88348999999999,7.737740000000031
END:VEVENT
END:VCALENDAR