BEGIN:VCALENDAR
VERSION:2.0
PRODID:-//wp-events-plugin.com//7.2.3.1//EN
BEGIN:VEVENT
UID:74@blasmusikblog.com
DTSTART:20190509T170000Z
DTEND:20190509T170000Z
DTSTAMP:20190418T200156Z
URL:https://blasmusikblog.com/events/woodstock-der-blasmusik-preview-mit-h
 ochkaraetigen-gaesten-im-buffet-crampon-showroom-in-geretsried/
SUMMARY:Woodstock der Blasmusik-Preview mit hochkarätigen Gästen im Buffe
 t Crampon Showroom in Geretsried
DESCRIPTION:Der 9. Mai wird dabei ganz im Zeichen vom Woodstock der Blasmus
 ik stehen. Bei einer Woodstock-Preview werden hochkarätige Gäste für b
 este Unterhaltung sorgen.
ATTACH;FMTTYPE=image/jpeg:https://blasmusikblog.com/wp-content/uploads/201
 9/04/57485189_2082258778509120_3366273754605813760_n-2.jpg
CATEGORIES:Konzert
LOCATION:Showroom Geretsried\, Seniweg 4\, Geretsried\, Bayern\, 82538\, De
 utschland
GEO:47.85531;11.492459999999937
X-APPLE-STRUCTURED-LOCATION;VALUE=URI;X-ADDRESS=Seniweg 4\, Geretsried\, Ba
 yern\, 82538\, Deutschland;X-APPLE-RADIUS=100;X-TITLE=Showroom Geretsried:
 geo:47.85531,11.492459999999937
END:VEVENT
END:VCALENDAR