BEGIN:VCALENDAR
VERSION:2.0
PRODID:-//wp-events-plugin.com//7.2.3.1//EN
BEGIN:VEVENT
UID:127@blasmusikblog.com
DTSTART:20200910T220000Z
DTEND:20200912T220000Z
DTSTAMP:20200825T094955Z
URL:https://blasmusikblog.com/events/workshop-arrangieren-und-einrichten-f
 uer-mein-floetenorchester-an-der-tma-bad-gandersheim/
SUMMARY:Workshop Arrangieren und Einrichten für mein Flötenorchester an d
 er TMA Bad Gandersheim
DESCRIPTION:Die Auswahl an geeigneter Literatur für Flötenorchester und S
 pielmannszüge ist in den letzten Jahren gestiegen\, aber leider dennoch s
 ehr klein. Die Anzahl der heute noch tätigen Verlage lässt sich an einer
  Hand abzählen. Insbesondere weil die Verlage im Hinblick auf die breite 
 Masse an Flötenorchestern sehr allgemein gesetzte Editionen herausgeben\,
  ist eine Individualisierung der Arrangements oder Kompositionen oft nöti
 g und gewollt. Gleichzeitig gibt es aber auch so individuell besetzte Orch
 ester\, dass der Kauf eines Arrangements sich nicht lohnt\, da die Ausgabe
 n nicht spielbar wären. Hier springen dann oft DirigentInnen oder Stimmf
 ührerInnen ein und versuchen sich daran\, selbst die entsprechenden Stüc
 ke zu bearbeiten.\n\nEin Lehrgang „Arrangieren und Einrichten für mein 
 Flötenorchester“ soll genau an diesem Punkt ansetzen und sowohl Musiker
 Innen mit wenig Erfahrung als auch MusikerInnen gänzlich ohne Erfahrung i
 m Arrangieren oder Einrichten von Notensätzen etwas tiefer in die\n\nMate
 rie begleiten. Hierbei soll es insbesondere nicht um einen musiktheoretisc
 hen Tonsatzkurs gehen\, für den auch ganz andere Grundlagen erforderlich 
 wären. Vielmehr soll der Lehrgang eine allgemeine Einführung in gängige
  Notensatzprogramme\, grundlegende Orchestrierungsmethoden im Flötenorche
 ster sowie die Erarbeitung eines Arrangements anhand einer Vorlage beinhal
 ten. Ein praktischer Ansatz ist mir hierbei sehr wichtig: so sollen die vo
 n den TeilnehmerInnen erstellten Arrangements am letzten Lehrgangstag grun
 dlegend erarbeitet werden und die Möglichkeit bestehen\, Ideen im Prozess
  des Arrangierens praktisch auszuprobieren. Grundlage für die Arrangement
 s und deren Besetzung bildet die instrumentale Zusammensetzung der Teilneh
 merInnen als „Lehrgangsorchester“.\n\nDie Zielgruppe sind interessiert
 e MusikerInnen aus dem Bereich Flötenorchester/Spielmannszug\, die mit gr
 undlegendem musiktheoretischem Wissen (D3 oder vergleichbar wünschenswert
 ) ausgestattet in die Materie des Arrangierens und Einrichtens für Flöte
 nrochester einsteigen wollen. Vorkenntnisse in diesem Bereich sind nicht n
 otwendig.\n\nDer Workshop findet vom 11. - 13. September 2020 unter der Le
 itung von Florian Schulte an der Turner-Musik-Akademie Altgandersheim stat
 t.\n\nFlorian Schulte ist Flötist und Pianist\, Arrangeur und Komponist.
  Seit 2015 studiert er Schulmusik und Anglistik in Oldenburg. Er arrangier
 t und komponiert für Verlage im Bereich Flötenorchester/Spielmannszug 
 sowie Blasorchester und ist als Dozent in diversen Lehrgängen gefragt.\n
 \nwww.florian-schulte.com \n\nWeitere Informationen:\n\n[purchase_link id=
 "11692" style="" color="" text="Flyer kostenfrei runterladen!"]\n\n&nbsp\;
ATTACH;FMTTYPE=image/jpeg:https://blasmusikblog.com/wp-content/uploads/202
 0/02/Florian-Schulte.png
CATEGORIES:Workshop
LOCATION:Turnermusikakademie Bad Gandersheim\, Sonnenberg 10\, Bad Gandersh
 eim\, 37581\, Deutschland
GEO:51.90318;10.042760000000044
X-APPLE-STRUCTURED-LOCATION;VALUE=URI;X-ADDRESS=Sonnenberg 10\, Bad Ganders
 heim\, 37581\, Deutschland;X-APPLE-RADIUS=100;X-TITLE=Turnermusikakademie 
 Bad Gandersheim:geo:51.90318,10.042760000000044
END:VEVENT
END:VCALENDAR